BEGIN:VCALENDAR
VERSION:2.0
PRODID:-//City of Jeffersonville - ECPv6.15.20//NONSGML v1.0//EN
CALSCALE:GREGORIAN
METHOD:PUBLISH
X-WR-CALNAME:City of Jeffersonville
X-ORIGINAL-URL:https://cityofjeff.net
X-WR-CALDESC:Events for City of Jeffersonville
REFRESH-INTERVAL;VALUE=DURATION:PT1H
X-Robots-Tag:noindex
X-PUBLISHED-TTL:PT1H
BEGIN:VTIMEZONE
TZID:UTC
BEGIN:STANDARD
TZOFFSETFROM:+0000
TZOFFSETTO:+0000
TZNAME:UTC
DTSTART:20250101T000000
END:STANDARD
END:VTIMEZONE
BEGIN:VEVENT
DTSTART;TZID=UTC:20260428T173000
DTEND;TZID=UTC:20260428T190000
DTSTAMP:20260422T130113
CREATED:20210701T203314Z
LAST-MODIFIED:20250102T165444Z
UID:66710-1777397400-1777402800@cityofjeff.net
SUMMARY:Planning Commission
DESCRIPTION:The Planning Commission meets the last Tuesday of each month at 5:30 p.m.
URL:https://cityofjeff.net/event/planning-commission/2026-04-28/
END:VEVENT
BEGIN:VEVENT
DTSTART;TZID=UTC:20260526T173000
DTEND;TZID=UTC:20260526T190000
DTSTAMP:20260422T130113
CREATED:20210701T203314Z
LAST-MODIFIED:20250102T165445Z
UID:66711-1779816600-1779822000@cityofjeff.net
SUMMARY:Planning Commission
DESCRIPTION:The Planning Commission meets the last Tuesday of each month at 5:30 p.m.
URL:https://cityofjeff.net/event/planning-commission/2026-05-26/
END:VEVENT
BEGIN:VEVENT
DTSTART;TZID=UTC:20260630T173000
DTEND;TZID=UTC:20260630T190000
DTSTAMP:20260422T130113
CREATED:20210701T203314Z
LAST-MODIFIED:20250102T165445Z
UID:66712-1782840600-1782846000@cityofjeff.net
SUMMARY:Planning Commission
DESCRIPTION:The Planning Commission meets the last Tuesday of each month at 5:30 p.m.
URL:https://cityofjeff.net/event/planning-commission/2026-06-30/
END:VEVENT
BEGIN:VEVENT
DTSTART;TZID=UTC:20260728T173000
DTEND;TZID=UTC:20260728T190000
DTSTAMP:20260422T130113
CREATED:20210701T203314Z
LAST-MODIFIED:20250102T165446Z
UID:66713-1785259800-1785265200@cityofjeff.net
SUMMARY:Planning Commission
DESCRIPTION:The Planning Commission meets the last Tuesday of each month at 5:30 p.m.
URL:https://cityofjeff.net/event/planning-commission/2026-07-28/
END:VEVENT
BEGIN:VEVENT
DTSTART;TZID=UTC:20260825T173000
DTEND;TZID=UTC:20260825T190000
DTSTAMP:20260422T130113
CREATED:20210701T203314Z
LAST-MODIFIED:20250102T165446Z
UID:66714-1787679000-1787684400@cityofjeff.net
SUMMARY:Planning Commission
DESCRIPTION:The Planning Commission meets the last Tuesday of each month at 5:30 p.m.
URL:https://cityofjeff.net/event/planning-commission/2026-08-25/
END:VEVENT
BEGIN:VEVENT
DTSTART;TZID=UTC:20260929T173000
DTEND;TZID=UTC:20260929T190000
DTSTAMP:20260422T130113
CREATED:20210701T203314Z
LAST-MODIFIED:20250102T165446Z
UID:66715-1790703000-1790708400@cityofjeff.net
SUMMARY:Planning Commission
DESCRIPTION:The Planning Commission meets the last Tuesday of each month at 5:30 p.m.
URL:https://cityofjeff.net/event/planning-commission/2026-09-29/
END:VEVENT
BEGIN:VEVENT
DTSTART;TZID=UTC:20261027T173000
DTEND;TZID=UTC:20261027T190000
DTSTAMP:20260422T130113
CREATED:20210701T203314Z
LAST-MODIFIED:20250102T165447Z
UID:66716-1793122200-1793127600@cityofjeff.net
SUMMARY:Planning Commission
DESCRIPTION:The Planning Commission meets the last Tuesday of each month at 5:30 p.m.
URL:https://cityofjeff.net/event/planning-commission/2026-10-27/
END:VEVENT
BEGIN:VEVENT
DTSTART;TZID=UTC:20261124T173000
DTEND;TZID=UTC:20261124T190000
DTSTAMP:20260422T130113
CREATED:20210701T203314Z
LAST-MODIFIED:20250102T165447Z
UID:69511-1795541400-1795546800@cityofjeff.net
SUMMARY:Planning Commission
DESCRIPTION:The Planning Commission meets the last Tuesday of each month at 5:30 p.m.
URL:https://cityofjeff.net/event/planning-commission/2026-11-24/
END:VEVENT
BEGIN:VEVENT
DTSTART;TZID=UTC:20261229T173000
DTEND;TZID=UTC:20261229T190000
DTSTAMP:20260422T130113
CREATED:20210701T203314Z
LAST-MODIFIED:20250102T165448Z
UID:72914-1798565400-1798570800@cityofjeff.net
SUMMARY:Planning Commission
DESCRIPTION:The Planning Commission meets the last Tuesday of each month at 5:30 p.m.
URL:https://cityofjeff.net/event/planning-commission/2026-12-29/
END:VEVENT
BEGIN:VEVENT
DTSTART;TZID=UTC:20270126T173000
DTEND;TZID=UTC:20270126T190000
DTSTAMP:20260422T130113
CREATED:20210701T203314Z
LAST-MODIFIED:20210701T203314Z
UID:77306-1800984600-1800990000@cityofjeff.net
SUMMARY:Planning Commission
DESCRIPTION:The Planning Commission meets the last Tuesday of each month at 5:30 p.m.
URL:https://cityofjeff.net/event/planning-commission/2027-01-26/
END:VEVENT
BEGIN:VEVENT
DTSTART;TZID=UTC:20270223T173000
DTEND;TZID=UTC:20270223T190000
DTSTAMP:20260422T130113
CREATED:20210701T203314Z
LAST-MODIFIED:20210701T203314Z
UID:84379-1803403800-1803409200@cityofjeff.net
SUMMARY:Planning Commission
DESCRIPTION:The Planning Commission meets the last Tuesday of each month at 5:30 p.m.
URL:https://cityofjeff.net/event/planning-commission/2027-02-23/
END:VEVENT
BEGIN:VEVENT
DTSTART;TZID=UTC:20270330T173000
DTEND;TZID=UTC:20270330T190000
DTSTAMP:20260422T130113
CREATED:20210701T203314Z
LAST-MODIFIED:20210701T203314Z
UID:84958-1806427800-1806433200@cityofjeff.net
SUMMARY:Planning Commission
DESCRIPTION:The Planning Commission meets the last Tuesday of each month at 5:30 p.m.
URL:https://cityofjeff.net/event/planning-commission/2027-03-30/
END:VEVENT
BEGIN:VEVENT
DTSTART;TZID=UTC:20270427T173000
DTEND;TZID=UTC:20270427T190000
DTSTAMP:20260422T130113
CREATED:20210701T203314Z
LAST-MODIFIED:20210701T203314Z
UID:85358-1808847000-1808852400@cityofjeff.net
SUMMARY:Planning Commission
DESCRIPTION:The Planning Commission meets the last Tuesday of each month at 5:30 p.m.
URL:https://cityofjeff.net/event/planning-commission/2027-04-27/
END:VEVENT
BEGIN:VEVENT
DTSTART;TZID=UTC:20270525T173000
DTEND;TZID=UTC:20270525T190000
DTSTAMP:20260422T130113
CREATED:20210701T203314Z
LAST-MODIFIED:20210701T203314Z
UID:85663-1811266200-1811271600@cityofjeff.net
SUMMARY:Planning Commission
DESCRIPTION:The Planning Commission meets the last Tuesday of each month at 5:30 p.m.
URL:https://cityofjeff.net/event/planning-commission/2027-05-25/
END:VEVENT
BEGIN:VEVENT
DTSTART;TZID=UTC:20270629T173000
DTEND;TZID=UTC:20270629T190000
DTSTAMP:20260422T130113
CREATED:20210701T203314Z
LAST-MODIFIED:20210701T203314Z
UID:86207-1814290200-1814295600@cityofjeff.net
SUMMARY:Planning Commission
DESCRIPTION:The Planning Commission meets the last Tuesday of each month at 5:30 p.m.
URL:https://cityofjeff.net/event/planning-commission/2027-06-29/
END:VEVENT
BEGIN:VEVENT
DTSTART;TZID=UTC:20270727T173000
DTEND;TZID=UTC:20270727T190000
DTSTAMP:20260422T130113
CREATED:20210701T203314Z
LAST-MODIFIED:20210701T203314Z
UID:89805-1816709400-1816714800@cityofjeff.net
SUMMARY:Planning Commission
DESCRIPTION:The Planning Commission meets the last Tuesday of each month at 5:30 p.m.
URL:https://cityofjeff.net/event/planning-commission/2027-07-27/
END:VEVENT
BEGIN:VEVENT
DTSTART;TZID=UTC:20270831T173000
DTEND;TZID=UTC:20270831T190000
DTSTAMP:20260422T130113
CREATED:20210701T203314Z
LAST-MODIFIED:20210701T203314Z
UID:93830-1819733400-1819738800@cityofjeff.net
SUMMARY:Planning Commission
DESCRIPTION:The Planning Commission meets the last Tuesday of each month at 5:30 p.m.
URL:https://cityofjeff.net/event/planning-commission/2027-08-31/
END:VEVENT
BEGIN:VEVENT
DTSTART;TZID=UTC:20270928T173000
DTEND;TZID=UTC:20270928T190000
DTSTAMP:20260422T130113
CREATED:20210701T203314Z
LAST-MODIFIED:20210701T203314Z
UID:94324-1822152600-1822158000@cityofjeff.net
SUMMARY:Planning Commission
DESCRIPTION:The Planning Commission meets the last Tuesday of each month at 5:30 p.m.
URL:https://cityofjeff.net/event/planning-commission/2027-09-28/
END:VEVENT
BEGIN:VEVENT
DTSTART;TZID=UTC:20271026T173000
DTEND;TZID=UTC:20271026T190000
DTSTAMP:20260422T130113
CREATED:20210701T203314Z
LAST-MODIFIED:20210701T203314Z
UID:94985-1824571800-1824577200@cityofjeff.net
SUMMARY:Planning Commission
DESCRIPTION:The Planning Commission meets the last Tuesday of each month at 5:30 p.m.
URL:https://cityofjeff.net/event/planning-commission/2027-10-26/
END:VEVENT
BEGIN:VEVENT
DTSTART;TZID=UTC:20271130T173000
DTEND;TZID=UTC:20271130T190000
DTSTAMP:20260422T130113
CREATED:20210701T203314Z
LAST-MODIFIED:20210701T203314Z
UID:95762-1827595800-1827601200@cityofjeff.net
SUMMARY:Planning Commission
DESCRIPTION:The Planning Commission meets the last Tuesday of each month at 5:30 p.m.
URL:https://cityofjeff.net/event/planning-commission/2027-11-30/
END:VEVENT
BEGIN:VEVENT
DTSTART;TZID=UTC:20271228T173000
DTEND;TZID=UTC:20271228T190000
DTSTAMP:20260422T130113
CREATED:20210701T203314Z
LAST-MODIFIED:20210701T203314Z
UID:97893-1830015000-1830020400@cityofjeff.net
SUMMARY:Planning Commission
DESCRIPTION:The Planning Commission meets the last Tuesday of each month at 5:30 p.m.
URL:https://cityofjeff.net/event/planning-commission/2027-12-28/
END:VEVENT
BEGIN:VEVENT
DTSTART;TZID=UTC:20280125T173000
DTEND;TZID=UTC:20280125T190000
DTSTAMP:20260422T130113
CREATED:20210701T203314Z
LAST-MODIFIED:20210701T203314Z
UID:99799-1832434200-1832439600@cityofjeff.net
SUMMARY:Planning Commission
DESCRIPTION:The Planning Commission meets the last Tuesday of each month at 5:30 p.m.
URL:https://cityofjeff.net/event/planning-commission/2028-01-25/
END:VEVENT
BEGIN:VEVENT
DTSTART;TZID=UTC:20280229T173000
DTEND;TZID=UTC:20280229T190000
DTSTAMP:20260422T130113
CREATED:20210701T203314Z
LAST-MODIFIED:20210701T203314Z
UID:101057-1835458200-1835463600@cityofjeff.net
SUMMARY:Planning Commission
DESCRIPTION:The Planning Commission meets the last Tuesday of each month at 5:30 p.m.
URL:https://cityofjeff.net/event/planning-commission/2028-02-29/
END:VEVENT
BEGIN:VEVENT
DTSTART;TZID=UTC:20280328T173000
DTEND;TZID=UTC:20280328T190000
DTSTAMP:20260422T130113
CREATED:20210701T203314Z
LAST-MODIFIED:20210701T203314Z
UID:101525-1837877400-1837882800@cityofjeff.net
SUMMARY:Planning Commission
DESCRIPTION:The Planning Commission meets the last Tuesday of each month at 5:30 p.m.
URL:https://cityofjeff.net/event/planning-commission/2028-03-28/
END:VEVENT
END:VCALENDAR