BEGIN:VCALENDAR
VERSION:2.0
PRODID:-//City of Jeffersonville - ECPv6.15.20//NONSGML v1.0//EN
CALSCALE:GREGORIAN
METHOD:PUBLISH
X-ORIGINAL-URL:https://cityofjeff.net
X-WR-CALDESC:Events for City of Jeffersonville
REFRESH-INTERVAL;VALUE=DURATION:PT1H
X-Robots-Tag:noindex
X-PUBLISHED-TTL:PT1H
BEGIN:VTIMEZONE
TZID:America/Kentucky/Louisville
BEGIN:DAYLIGHT
TZOFFSETFROM:-0500
TZOFFSETTO:-0400
TZNAME:EDT
DTSTART:20220313T070000
END:DAYLIGHT
BEGIN:STANDARD
TZOFFSETFROM:-0400
TZOFFSETTO:-0500
TZNAME:EST
DTSTART:20221106T060000
END:STANDARD
BEGIN:DAYLIGHT
TZOFFSETFROM:-0500
TZOFFSETTO:-0400
TZNAME:EDT
DTSTART:20230312T070000
END:DAYLIGHT
BEGIN:STANDARD
TZOFFSETFROM:-0400
TZOFFSETTO:-0500
TZNAME:EST
DTSTART:20231105T060000
END:STANDARD
BEGIN:DAYLIGHT
TZOFFSETFROM:-0500
TZOFFSETTO:-0400
TZNAME:EDT
DTSTART:20240310T070000
END:DAYLIGHT
BEGIN:STANDARD
TZOFFSETFROM:-0400
TZOFFSETTO:-0500
TZNAME:EST
DTSTART:20241103T060000
END:STANDARD
BEGIN:DAYLIGHT
TZOFFSETFROM:-0500
TZOFFSETTO:-0400
TZNAME:EDT
DTSTART:20250309T070000
END:DAYLIGHT
BEGIN:STANDARD
TZOFFSETFROM:-0400
TZOFFSETTO:-0500
TZNAME:EST
DTSTART:20251102T060000
END:STANDARD
BEGIN:DAYLIGHT
TZOFFSETFROM:-0500
TZOFFSETTO:-0400
TZNAME:EDT
DTSTART:20260308T070000
END:DAYLIGHT
BEGIN:STANDARD
TZOFFSETFROM:-0400
TZOFFSETTO:-0500
TZNAME:EST
DTSTART:20261101T060000
END:STANDARD
BEGIN:DAYLIGHT
TZOFFSETFROM:-0500
TZOFFSETTO:-0400
TZNAME:EDT
DTSTART:20270314T070000
END:DAYLIGHT
BEGIN:STANDARD
TZOFFSETFROM:-0400
TZOFFSETTO:-0500
TZNAME:EST
DTSTART:20271107T060000
END:STANDARD
END:VTIMEZONE
BEGIN:VEVENT
DTSTART;TZID=America/Kentucky/Louisville:20260325T160000
DTEND;TZID=America/Kentucky/Louisville:20260325T170000
DTSTAMP:20260422T125217
CREATED:20180904T093017Z
LAST-MODIFIED:20180904T093017Z
UID:16042-1774454400-1774458000@cityofjeff.net
SUMMARY:Redevelop Commission Meeting
DESCRIPTION:The Redevelop Commission meets the last Wednesday of each month at 4:00 pm in the Mayor’s Conference Room on the 2nd floor of City Hall at 500 Quartermaster Court\, Jeffersonville\, IN 47130.
URL:https://cityofjeff.net/event/redevelop-commission-meeting-2-2023-01-25/2026-03-25/
END:VEVENT
BEGIN:VEVENT
DTSTART;TZID=America/Kentucky/Louisville:20260225T160000
DTEND;TZID=America/Kentucky/Louisville:20260225T170000
DTSTAMP:20260422T125217
CREATED:20180904T093017Z
LAST-MODIFIED:20180904T093017Z
UID:15025-1772035200-1772038800@cityofjeff.net
SUMMARY:Redevelop Commission Meeting
DESCRIPTION:The Redevelop Commission meets the last Wednesday of each month at 4:00 pm in the Mayor’s Conference Room on the 2nd floor of City Hall at 500 Quartermaster Court\, Jeffersonville\, IN 47130.
URL:https://cityofjeff.net/event/redevelop-commission-meeting-2-2023-01-25/2026-02-25/
END:VEVENT
BEGIN:VEVENT
DTSTART;TZID=America/Kentucky/Louisville:20260128T160000
DTEND;TZID=America/Kentucky/Louisville:20260128T170000
DTSTAMP:20260422T125217
CREATED:20180904T093017Z
LAST-MODIFIED:20180904T093017Z
UID:13374-1769616000-1769619600@cityofjeff.net
SUMMARY:Redevelop Commission Meeting
DESCRIPTION:The Redevelop Commission meets the last Wednesday of each month at 4:00 pm in the Mayor’s Conference Room on the 2nd floor of City Hall at 500 Quartermaster Court\, Jeffersonville\, IN 47130.
URL:https://cityofjeff.net/event/redevelop-commission-meeting-2-2023-01-25/2026-01-28/
END:VEVENT
BEGIN:VEVENT
DTSTART;TZID=America/Kentucky/Louisville:20251231T160000
DTEND;TZID=America/Kentucky/Louisville:20251231T170000
DTSTAMP:20260422T125217
CREATED:20180904T093017Z
LAST-MODIFIED:20180904T093017Z
UID:13103-1767196800-1767200400@cityofjeff.net
SUMMARY:Redevelop Commission Meeting
DESCRIPTION:The Redevelop Commission meets the last Wednesday of each month at 4:00 pm in the Mayor’s Conference Room on the 2nd floor of City Hall at 500 Quartermaster Court\, Jeffersonville\, IN 47130.
URL:https://cityofjeff.net/event/redevelop-commission-meeting-2-2023-01-25/2025-12-31/
END:VEVENT
BEGIN:VEVENT
DTSTART;TZID=America/Kentucky/Louisville:20251126T160000
DTEND;TZID=America/Kentucky/Louisville:20251126T170000
DTSTAMP:20260422T125217
CREATED:20180904T093017Z
LAST-MODIFIED:20180904T093017Z
UID:13102-1764172800-1764176400@cityofjeff.net
SUMMARY:Redevelop Commission Meeting
DESCRIPTION:The Redevelop Commission meets the last Wednesday of each month at 4:00 pm in the Mayor’s Conference Room on the 2nd floor of City Hall at 500 Quartermaster Court\, Jeffersonville\, IN 47130.
URL:https://cityofjeff.net/event/redevelop-commission-meeting-2-2023-01-25/2025-11-26/
END:VEVENT
BEGIN:VEVENT
DTSTART;TZID=America/Kentucky/Louisville:20251029T160000
DTEND;TZID=America/Kentucky/Louisville:20251029T170000
DTSTAMP:20260422T125217
CREATED:20180904T093017Z
LAST-MODIFIED:20180904T093017Z
UID:13101-1761753600-1761757200@cityofjeff.net
SUMMARY:Redevelop Commission Meeting
DESCRIPTION:The Redevelop Commission meets the last Wednesday of each month at 4:00 pm in the Mayor’s Conference Room on the 2nd floor of City Hall at 500 Quartermaster Court\, Jeffersonville\, IN 47130.
URL:https://cityofjeff.net/event/redevelop-commission-meeting-2-2023-01-25/2025-10-29/
END:VEVENT
BEGIN:VEVENT
DTSTART;TZID=America/Kentucky/Louisville:20250924T160000
DTEND;TZID=America/Kentucky/Louisville:20250924T170000
DTSTAMP:20260422T125217
CREATED:20180904T093017Z
LAST-MODIFIED:20180904T093017Z
UID:13100-1758729600-1758733200@cityofjeff.net
SUMMARY:Redevelop Commission Meeting
DESCRIPTION:The Redevelop Commission meets the last Wednesday of each month at 4:00 pm in the Mayor’s Conference Room on the 2nd floor of City Hall at 500 Quartermaster Court\, Jeffersonville\, IN 47130.
URL:https://cityofjeff.net/event/redevelop-commission-meeting-2-2023-01-25/2025-09-24/
END:VEVENT
BEGIN:VEVENT
DTSTART;TZID=America/Kentucky/Louisville:20250827T160000
DTEND;TZID=America/Kentucky/Louisville:20250827T170000
DTSTAMP:20260422T125217
CREATED:20180904T093017Z
LAST-MODIFIED:20180904T093017Z
UID:13099-1756310400-1756314000@cityofjeff.net
SUMMARY:Redevelop Commission Meeting
DESCRIPTION:The Redevelop Commission meets the last Wednesday of each month at 4:00 pm in the Mayor’s Conference Room on the 2nd floor of City Hall at 500 Quartermaster Court\, Jeffersonville\, IN 47130.
URL:https://cityofjeff.net/event/redevelop-commission-meeting-2-2023-01-25/2025-08-27/
END:VEVENT
BEGIN:VEVENT
DTSTART;TZID=America/Kentucky/Louisville:20250730T160000
DTEND;TZID=America/Kentucky/Louisville:20250730T170000
DTSTAMP:20260422T125217
CREATED:20180904T093017Z
LAST-MODIFIED:20180904T093017Z
UID:13098-1753891200-1753894800@cityofjeff.net
SUMMARY:Redevelop Commission Meeting
DESCRIPTION:The Redevelop Commission meets the last Wednesday of each month at 4:00 pm in the Mayor’s Conference Room on the 2nd floor of City Hall at 500 Quartermaster Court\, Jeffersonville\, IN 47130.
URL:https://cityofjeff.net/event/redevelop-commission-meeting-2-2023-01-25/2025-07-30/
END:VEVENT
BEGIN:VEVENT
DTSTART;TZID=America/Kentucky/Louisville:20250625T160000
DTEND;TZID=America/Kentucky/Louisville:20250625T170000
DTSTAMP:20260422T125217
CREATED:20180904T093017Z
LAST-MODIFIED:20180904T093017Z
UID:13097-1750867200-1750870800@cityofjeff.net
SUMMARY:Redevelop Commission Meeting
DESCRIPTION:The Redevelop Commission meets the last Wednesday of each month at 4:00 pm in the Mayor’s Conference Room on the 2nd floor of City Hall at 500 Quartermaster Court\, Jeffersonville\, IN 47130.
URL:https://cityofjeff.net/event/redevelop-commission-meeting-2-2023-01-25/2025-06-25/
END:VEVENT
BEGIN:VEVENT
DTSTART;TZID=America/Kentucky/Louisville:20250528T160000
DTEND;TZID=America/Kentucky/Louisville:20250528T170000
DTSTAMP:20260422T125217
CREATED:20180904T093017Z
LAST-MODIFIED:20180904T093017Z
UID:13096-1748448000-1748451600@cityofjeff.net
SUMMARY:Redevelop Commission Meeting
DESCRIPTION:The Redevelop Commission meets the last Wednesday of each month at 4:00 pm in the Mayor’s Conference Room on the 2nd floor of City Hall at 500 Quartermaster Court\, Jeffersonville\, IN 47130.
URL:https://cityofjeff.net/event/redevelop-commission-meeting-2-2023-01-25/2025-05-28/
END:VEVENT
BEGIN:VEVENT
DTSTART;TZID=America/Kentucky/Louisville:20250430T160000
DTEND;TZID=America/Kentucky/Louisville:20250430T170000
DTSTAMP:20260422T125217
CREATED:20180904T093017Z
LAST-MODIFIED:20180904T093017Z
UID:13095-1746028800-1746032400@cityofjeff.net
SUMMARY:Redevelop Commission Meeting
DESCRIPTION:The Redevelop Commission meets the last Wednesday of each month at 4:00 pm in the Mayor’s Conference Room on the 2nd floor of City Hall at 500 Quartermaster Court\, Jeffersonville\, IN 47130.
URL:https://cityofjeff.net/event/redevelop-commission-meeting-2-2023-01-25/2025-04-30/
END:VEVENT
BEGIN:VEVENT
DTSTART;TZID=America/Kentucky/Louisville:20250326T160000
DTEND;TZID=America/Kentucky/Louisville:20250326T170000
DTSTAMP:20260422T125217
CREATED:20180904T093017Z
LAST-MODIFIED:20180904T093017Z
UID:13094-1743004800-1743008400@cityofjeff.net
SUMMARY:Redevelop Commission Meeting
DESCRIPTION:The Redevelop Commission meets the last Wednesday of each month at 4:00 pm in the Mayor’s Conference Room on the 2nd floor of City Hall at 500 Quartermaster Court\, Jeffersonville\, IN 47130.
URL:https://cityofjeff.net/event/redevelop-commission-meeting-2-2023-01-25/2025-03-26/
END:VEVENT
BEGIN:VEVENT
DTSTART;TZID=America/Kentucky/Louisville:20250226T160000
DTEND;TZID=America/Kentucky/Louisville:20250226T170000
DTSTAMP:20260422T125217
CREATED:20180904T093017Z
LAST-MODIFIED:20180904T093017Z
UID:13093-1740585600-1740589200@cityofjeff.net
SUMMARY:Redevelop Commission Meeting
DESCRIPTION:The Redevelop Commission meets the last Wednesday of each month at 4:00 pm in the Mayor’s Conference Room on the 2nd floor of City Hall at 500 Quartermaster Court\, Jeffersonville\, IN 47130.
URL:https://cityofjeff.net/event/redevelop-commission-meeting-2-2023-01-25/2025-02-26/
END:VEVENT
BEGIN:VEVENT
DTSTART;TZID=America/Kentucky/Louisville:20250129T160000
DTEND;TZID=America/Kentucky/Louisville:20250129T170000
DTSTAMP:20260422T125217
CREATED:20180904T093017Z
LAST-MODIFIED:20180904T093017Z
UID:13092-1738166400-1738170000@cityofjeff.net
SUMMARY:Redevelop Commission Meeting
DESCRIPTION:The Redevelop Commission meets the last Wednesday of each month at 4:00 pm in the Mayor’s Conference Room on the 2nd floor of City Hall at 500 Quartermaster Court\, Jeffersonville\, IN 47130.
URL:https://cityofjeff.net/event/redevelop-commission-meeting-2-2023-01-25/2025-01-29/
END:VEVENT
BEGIN:VEVENT
DTSTART;TZID=America/Kentucky/Louisville:20241225T160000
DTEND;TZID=America/Kentucky/Louisville:20241225T170000
DTSTAMP:20260422T125217
CREATED:20180904T093017Z
LAST-MODIFIED:20180904T093017Z
UID:13091-1735142400-1735146000@cityofjeff.net
SUMMARY:Redevelop Commission Meeting
DESCRIPTION:The Redevelop Commission meets the last Wednesday of each month at 4:00 pm in the Mayor’s Conference Room on the 2nd floor of City Hall at 500 Quartermaster Court\, Jeffersonville\, IN 47130.
URL:https://cityofjeff.net/event/redevelop-commission-meeting-2-2023-01-25/2024-12-25/
END:VEVENT
BEGIN:VEVENT
DTSTART;TZID=America/Kentucky/Louisville:20241127T160000
DTEND;TZID=America/Kentucky/Louisville:20241127T170000
DTSTAMP:20260422T125217
CREATED:20180904T093017Z
LAST-MODIFIED:20180904T093017Z
UID:13090-1732723200-1732726800@cityofjeff.net
SUMMARY:Redevelop Commission Meeting
DESCRIPTION:The Redevelop Commission meets the last Wednesday of each month at 4:00 pm in the Mayor’s Conference Room on the 2nd floor of City Hall at 500 Quartermaster Court\, Jeffersonville\, IN 47130.
URL:https://cityofjeff.net/event/redevelop-commission-meeting-2-2023-01-25/2024-11-27/
END:VEVENT
BEGIN:VEVENT
DTSTART;TZID=America/Kentucky/Louisville:20241030T160000
DTEND;TZID=America/Kentucky/Louisville:20241030T170000
DTSTAMP:20260422T125217
CREATED:20180904T093017Z
LAST-MODIFIED:20180904T093017Z
UID:13089-1730304000-1730307600@cityofjeff.net
SUMMARY:Redevelop Commission Meeting
DESCRIPTION:The Redevelop Commission meets the last Wednesday of each month at 4:00 pm in the Mayor’s Conference Room on the 2nd floor of City Hall at 500 Quartermaster Court\, Jeffersonville\, IN 47130.
URL:https://cityofjeff.net/event/redevelop-commission-meeting-2-2023-01-25/2024-10-30/
END:VEVENT
BEGIN:VEVENT
DTSTART;TZID=America/Kentucky/Louisville:20240925T160000
DTEND;TZID=America/Kentucky/Louisville:20240925T170000
DTSTAMP:20260422T125217
CREATED:20180904T093017Z
LAST-MODIFIED:20180904T093017Z
UID:13088-1727280000-1727283600@cityofjeff.net
SUMMARY:Redevelop Commission Meeting
DESCRIPTION:The Redevelop Commission meets the last Wednesday of each month at 4:00 pm in the Mayor’s Conference Room on the 2nd floor of City Hall at 500 Quartermaster Court\, Jeffersonville\, IN 47130.
URL:https://cityofjeff.net/event/redevelop-commission-meeting-2-2023-01-25/2024-09-25/
END:VEVENT
BEGIN:VEVENT
DTSTART;TZID=America/Kentucky/Louisville:20240828T160000
DTEND;TZID=America/Kentucky/Louisville:20240828T170000
DTSTAMP:20260422T125217
CREATED:20180904T093017Z
LAST-MODIFIED:20180904T093017Z
UID:13087-1724860800-1724864400@cityofjeff.net
SUMMARY:Redevelop Commission Meeting
DESCRIPTION:The Redevelop Commission meets the last Wednesday of each month at 4:00 pm in the Mayor’s Conference Room on the 2nd floor of City Hall at 500 Quartermaster Court\, Jeffersonville\, IN 47130.
URL:https://cityofjeff.net/event/redevelop-commission-meeting-2-2023-01-25/2024-08-28/
END:VEVENT
BEGIN:VEVENT
DTSTART;TZID=America/Kentucky/Louisville:20240731T160000
DTEND;TZID=America/Kentucky/Louisville:20240731T170000
DTSTAMP:20260422T125217
CREATED:20180904T093017Z
LAST-MODIFIED:20180904T093017Z
UID:13086-1722441600-1722445200@cityofjeff.net
SUMMARY:Redevelop Commission Meeting
DESCRIPTION:The Redevelop Commission meets the last Wednesday of each month at 4:00 pm in the Mayor’s Conference Room on the 2nd floor of City Hall at 500 Quartermaster Court\, Jeffersonville\, IN 47130.
URL:https://cityofjeff.net/event/redevelop-commission-meeting-2-2023-01-25/2024-07-31/
END:VEVENT
BEGIN:VEVENT
DTSTART;TZID=America/Kentucky/Louisville:20240626T160000
DTEND;TZID=America/Kentucky/Louisville:20240626T170000
DTSTAMP:20260422T125217
CREATED:20180904T093017Z
LAST-MODIFIED:20180904T093017Z
UID:13085-1719417600-1719421200@cityofjeff.net
SUMMARY:Redevelop Commission Meeting
DESCRIPTION:The Redevelop Commission meets the last Wednesday of each month at 4:00 pm in the Mayor’s Conference Room on the 2nd floor of City Hall at 500 Quartermaster Court\, Jeffersonville\, IN 47130.
URL:https://cityofjeff.net/event/redevelop-commission-meeting-2-2023-01-25/2024-06-26/
END:VEVENT
BEGIN:VEVENT
DTSTART;TZID=America/Kentucky/Louisville:20240529T160000
DTEND;TZID=America/Kentucky/Louisville:20240529T170000
DTSTAMP:20260422T125217
CREATED:20180904T093017Z
LAST-MODIFIED:20180904T093017Z
UID:13084-1716998400-1717002000@cityofjeff.net
SUMMARY:Redevelop Commission Meeting
DESCRIPTION:The Redevelop Commission meets the last Wednesday of each month at 4:00 pm in the Mayor’s Conference Room on the 2nd floor of City Hall at 500 Quartermaster Court\, Jeffersonville\, IN 47130.
URL:https://cityofjeff.net/event/redevelop-commission-meeting-2-2023-01-25/2024-05-29/
END:VEVENT
BEGIN:VEVENT
DTSTART;TZID=America/Kentucky/Louisville:20240424T160000
DTEND;TZID=America/Kentucky/Louisville:20240424T170000
DTSTAMP:20260422T125217
CREATED:20180904T093017Z
LAST-MODIFIED:20180904T093017Z
UID:13083-1713974400-1713978000@cityofjeff.net
SUMMARY:Redevelop Commission Meeting
DESCRIPTION:The Redevelop Commission meets the last Wednesday of each month at 4:00 pm in the Mayor’s Conference Room on the 2nd floor of City Hall at 500 Quartermaster Court\, Jeffersonville\, IN 47130.
URL:https://cityofjeff.net/event/redevelop-commission-meeting-2-2023-01-25/2024-04-24/
END:VEVENT
BEGIN:VEVENT
DTSTART;TZID=America/Kentucky/Louisville:20230426T160000
DTEND;TZID=America/Kentucky/Louisville:20230426T170000
DTSTAMP:20260422T125217
CREATED:20180904T093017Z
LAST-MODIFIED:20240122T173808Z
UID:6937-1682524800-1682528400@cityofjeff.net
SUMMARY:Redevelop Commission Meeting
DESCRIPTION:The Redevelop Commission meets the last Wednesday of each month at 4:00 pm in the Mayor’s Conference Room on the 2nd floor of City Hall at 500 Quartermaster Court\, Jeffersonville\, IN 47130.
URL:https://cityofjeff.net/event/redevelop-commission-meeting-2-2023-01-25/2023-04-26/
END:VEVENT
END:VCALENDAR