BEGIN:VCALENDAR
VERSION:2.0
PRODID:-//City of Jeffersonville - ECPv6.15.20//NONSGML v1.0//EN
CALSCALE:GREGORIAN
METHOD:PUBLISH
X-ORIGINAL-URL:https://cityofjeff.net
X-WR-CALDESC:Events for City of Jeffersonville
REFRESH-INTERVAL;VALUE=DURATION:PT1H
X-Robots-Tag:noindex
X-PUBLISHED-TTL:PT1H
BEGIN:VTIMEZONE
TZID:UTC
BEGIN:STANDARD
TZOFFSETFROM:+0000
TZOFFSETTO:+0000
TZNAME:UTC
DTSTART:20240101T000000
END:STANDARD
END:VTIMEZONE
BEGIN:VEVENT
DTSTART;TZID=UTC:20250904T180000
DTEND;TZID=UTC:20250904T190000
DTSTAMP:20260424T084017
CREATED:20210701T203831Z
LAST-MODIFIED:20210701T203831Z
UID:8952-1757008800-1757012400@cityofjeff.net
SUMMARY:Fire Merit Commission
DESCRIPTION:The Fire Merit Commission meets on the first Thursday of each month at 6 p.m.
URL:https://cityofjeff.net/event/fire-merit-commission-2/2025-09-04/
CATEGORIES:Fire Merit Commission
END:VEVENT
END:VCALENDAR