BEGIN:VCALENDAR
VERSION:2.0
PRODID:-//City of Jeffersonville - ECPv6.15.20//NONSGML v1.0//EN
CALSCALE:GREGORIAN
METHOD:PUBLISH
X-ORIGINAL-URL:https://cityofjeff.net
X-WR-CALDESC:Events for City of Jeffersonville
REFRESH-INTERVAL;VALUE=DURATION:PT1H
X-Robots-Tag:noindex
X-PUBLISHED-TTL:PT1H
BEGIN:VTIMEZONE
TZID:UTC
BEGIN:STANDARD
TZOFFSETFROM:+0000
TZOFFSETTO:+0000
TZNAME:UTC
DTSTART:20260101T000000
END:STANDARD
END:VTIMEZONE
BEGIN:VEVENT
DTSTART;TZID=UTC:20271214T170000
DTEND;TZID=UTC:20271214T180000
DTSTAMP:20260423T085757
CREATED:20210701T203726Z
LAST-MODIFIED:20210701T203726Z
UID:96728-1828803600-1828807200@cityofjeff.net
SUMMARY:Police Merit Commission
DESCRIPTION:The Police Merit Commission meets on the second Tuesday of each month at 5 p.m.
URL:https://cityofjeff.net/event/police-merit-commission-2/2027-12-14/
CATEGORIES:Police Merit Commission
END:VEVENT
BEGIN:VEVENT
DTSTART;TZID=UTC:20280111T170000
DTEND;TZID=UTC:20280111T180000
DTSTAMP:20260423T085757
CREATED:20210701T203726Z
LAST-MODIFIED:20210701T203726Z
UID:98944-1831222800-1831226400@cityofjeff.net
SUMMARY:Police Merit Commission
DESCRIPTION:The Police Merit Commission meets on the second Tuesday of each month at 5 p.m.
URL:https://cityofjeff.net/event/police-merit-commission-2/2028-01-11/
CATEGORIES:Police Merit Commission
END:VEVENT
BEGIN:VEVENT
DTSTART;TZID=UTC:20280208T170000
DTEND;TZID=UTC:20280208T180000
DTSTAMP:20260423T085757
CREATED:20210701T203726Z
LAST-MODIFIED:20210701T203726Z
UID:100572-1833642000-1833645600@cityofjeff.net
SUMMARY:Police Merit Commission
DESCRIPTION:The Police Merit Commission meets on the second Tuesday of each month at 5 p.m.
URL:https://cityofjeff.net/event/police-merit-commission-2/2028-02-08/
CATEGORIES:Police Merit Commission
END:VEVENT
BEGIN:VEVENT
DTSTART;TZID=UTC:20280314T170000
DTEND;TZID=UTC:20280314T180000
DTSTAMP:20260423T085757
CREATED:20210701T203726Z
LAST-MODIFIED:20210701T203726Z
UID:101186-1836666000-1836669600@cityofjeff.net
SUMMARY:Police Merit Commission
DESCRIPTION:The Police Merit Commission meets on the second Tuesday of each month at 5 p.m.
URL:https://cityofjeff.net/event/police-merit-commission-2/2028-03-14/
CATEGORIES:Police Merit Commission
END:VEVENT
BEGIN:VEVENT
DTSTART;TZID=UTC:20280411T170000
DTEND;TZID=UTC:20280411T180000
DTSTAMP:20260423T085757
CREATED:20210701T203726Z
LAST-MODIFIED:20210701T203726Z
UID:101563-1839085200-1839088800@cityofjeff.net
SUMMARY:Police Merit Commission
DESCRIPTION:The Police Merit Commission meets on the second Tuesday of each month at 5 p.m.
URL:https://cityofjeff.net/event/police-merit-commission-2/2028-04-11/
CATEGORIES:Police Merit Commission
END:VEVENT
END:VCALENDAR